BEGIN:VCALENDAR
VERSION:2.0
PRODID:-//thearcwbo.org//NONSGML kigkonsult.se iCalcreator 2.30.10//
CALSCALE:GREGORIAN
METHOD:PUBLISH
UID:b63e116a-392e-4fe6-ab44-8194874567bc
X-WR-CALDESC:Social Media helps people connect\, but there are some not-so-
 nice people out there\, who could take advantage of us\, if we are not pay
 ing attention. This is an interactive course exploring different types of 
 social media. We will discuss how connecting virtually works for us\, as w
 ell as the dangers lurking within. We will discuss the do's and don'ts of 
 using social media\, online dating and protecting your privacy. Cost $75
X-WR-RELCALID:e10060feff40cced9b8c875351034a64
X-WR-TIMEZONE:America/Chicago
BEGIN:VTIMEZONE
TZID:America/Chicago
BEGIN:STANDARD
TZNAME:CST
DTSTART:20231105T020000
TZOFFSETFROM:-0500
TZOFFSETTO:-0600
RDATE:20241103T020000
RDATE:20251102T020000
END:STANDARD
BEGIN:DAYLIGHT
TZNAME:CDT
DTSTART:20240310T020000
TZOFFSETFROM:-0600
TZOFFSETTO:-0500
RDATE:20250309T020000
RDATE:20260308T020000
END:DAYLIGHT
END:VTIMEZONE
BEGIN:VEVENT
UID:92eebcd9-96fe-47c1-a56d-3663999e6979
DTSTAMP:20260423T082055Z
DESCRIPTION:Social Media helps people connect\, but there are some not-so-n
 ice people out there\, who could take advantage of us\, if we are not payi
 ng attention. This is an interactive course exploring different types of s
 ocial media. We will discuss how connecting virtually works for us\, as we
 ll as the dangers lurking within. We will discuss the do's and don'ts of u
 sing social media\, online dating and protecting your privacy. Cost $75
DTSTART;TZID=America/Chicago:20241104T163000
DTEND;TZID=America/Chicago:20241104T180000
LOCATION:2820 McFarland Rd.\, Rockford\, IL 61107 US
SUMMARY:Social Media Safety - Life Skills
END:VEVENT
END:VCALENDAR
