BEGIN:VCALENDAR
VERSION:2.0
PRODID:-//thearcwbo.org//NONSGML kigkonsult.se iCalcreator 2.30.10//
CALSCALE:GREGORIAN
METHOD:PUBLISH
UID:b6f1269b-887d-4a02-a39a-c051bc5efe57
X-WR-CALDESC:
X-WR-RELCALID:577e0d05fda773d237a2496eec235d88
X-WR-TIMEZONE:America/Chicago
BEGIN:VTIMEZONE
TZID:America/Chicago
BEGIN:STANDARD
TZNAME:CST
DTSTART:20251102T020000
TZOFFSETFROM:-0500
TZOFFSETTO:-0600
RDATE:20261101T020000
RDATE:20271107T020000
END:STANDARD
BEGIN:DAYLIGHT
TZNAME:CDT
DTSTART:20260308T020000
TZOFFSETFROM:-0600
TZOFFSETTO:-0500
RDATE:20270314T020000
END:DAYLIGHT
END:VTIMEZONE
BEGIN:VEVENT
UID:3f211952-dc0b-4d37-a171-5c719787db3a
DTSTAMP:20260421T001829Z
DESCRIPTION:
DTSTART;TZID=America/Chicago:20260619T050000
DTEND;TZID=America/Chicago:20260619T050001
LOCATION:2820 McFarland Rd\, The Arc of WBO\, Rockford\, IL 61107 US
SUMMARY:CLOSED
END:VEVENT
END:VCALENDAR
