BEGIN:VCALENDAR
VERSION:2.0
PRODID:-//thearcwbo.org//NONSGML kigkonsult.se iCalcreator 2.30.10//
CALSCALE:GREGORIAN
METHOD:PUBLISH
UID:dad08b8a-5187-48cb-89b8-e5da6c440ee4
X-WR-CALDESC:Join us for tabletop role-playing games (like Dungeons & Drago
 ns) and board games with friends from The Arc! $10 per session (pizza incl
 uded!). Gaming supplies are provided\, and beginners are welcome.
X-WR-RELCALID:98e66c9f66254df6327d49df615534e4
X-WR-TIMEZONE:America/Chicago
BEGIN:VTIMEZONE
TZID:America/Chicago
BEGIN:STANDARD
TZNAME:CST
DTSTART:20251102T020000
TZOFFSETFROM:-0500
TZOFFSETTO:-0600
RDATE:20261101T020000
RDATE:20271107T020000
END:STANDARD
BEGIN:DAYLIGHT
TZNAME:CDT
DTSTART:20260308T020000
TZOFFSETFROM:-0600
TZOFFSETTO:-0500
RDATE:20270314T020000
END:DAYLIGHT
END:VTIMEZONE
BEGIN:VEVENT
UID:2f42c1a2-d073-43d7-b5a2-6a23ee56671c
DTSTAMP:20260422T235441Z
DESCRIPTION:Join us for tabletop role-playing games (like Dungeons & Dragon
 s) and board games with friends from The Arc! $10 per session (pizza inclu
 ded!). Gaming supplies are provided\, and beginners are welcome.
DTSTART;TZID=America/Chicago:20260601T153000
DTEND;TZID=America/Chicago:20260601T183000
LOCATION:8289 Burden Road Suite SE\, The Arc of WBO\, Machesney Park\, IL 6
 1115 US
SUMMARY:Community Quest Gaming Group
END:VEVENT
END:VCALENDAR
