BEGIN:VCALENDAR
VERSION:2.0
PRODID:-//thearcwbo.org//NONSGML kigkonsult.se iCalcreator 2.30.10//
CALSCALE:GREGORIAN
METHOD:PUBLISH
UID:ce482a81-68e5-4d26-8a2c-1a0e0c995690
X-WR-CALDESC:
X-WR-RELCALID:b1ac64970ff23c0867d72277efd3f66d
X-WR-TIMEZONE:America/Chicago
BEGIN:VTIMEZONE
TZID:America/Chicago
BEGIN:STANDARD
TZNAME:CST
DTSTART:20251102T020000
TZOFFSETFROM:-0500
TZOFFSETTO:-0600
RDATE:20261101T020000
RDATE:20271107T020000
END:STANDARD
BEGIN:DAYLIGHT
TZNAME:CDT
DTSTART:20260308T020000
TZOFFSETFROM:-0600
TZOFFSETTO:-0500
RDATE:20270314T020000
END:DAYLIGHT
END:VTIMEZONE
BEGIN:VEVENT
UID:64c31028-9960-4234-8ce3-a4b0c50d311a
DTSTAMP:20260421T001957Z
DESCRIPTION:
DTSTART;TZID=America/Chicago:20260525T050000
DTEND;TZID=America/Chicago:20260525T050001
LOCATION:2820 McFarland Rd\, The Arc of WBO\, Rockford\, IL 61107 US
SUMMARY:CLOSED
END:VEVENT
END:VCALENDAR
