BEGIN:VCALENDAR
VERSION:2.0
PRODID:-//thearcwbo.org//NONSGML kigkonsult.se iCalcreator 2.30.10//
CALSCALE:GREGORIAN
METHOD:PUBLISH
UID:90941f8c-6b8d-46c6-88cc-604c92a85a91
X-WR-CALDESC:Join us at Book Club\, where readers of all skill levels are w
 elcome! We will provide the books\, and no outside reading is required. Co
 me enjoy reading aloud\, snacking\, and socializing with others.
X-WR-RELCALID:96497486494efa4b8c2c079b451b6abf
X-WR-TIMEZONE:America/Chicago
BEGIN:VTIMEZONE
TZID:America/Chicago
BEGIN:STANDARD
TZNAME:CST
DTSTART:20241103T020000
TZOFFSETFROM:-0500
TZOFFSETTO:-0600
RDATE:20251102T020000
RDATE:20261101T020000
END:STANDARD
BEGIN:DAYLIGHT
TZNAME:CDT
DTSTART:20250309T020000
TZOFFSETFROM:-0600
TZOFFSETTO:-0500
RDATE:20260308T020000
END:DAYLIGHT
END:VTIMEZONE
BEGIN:VEVENT
UID:e953265b-7664-41ff-9a14-0f9a89644592
DTSTAMP:20260419T130247Z
DESCRIPTION:Join us at Book Club\, where readers of all skill levels are we
 lcome! We will provide the books\, and no outside reading is required. Com
 e enjoy reading aloud\, snacking\, and socializing with others.
DTSTART;TZID=America/Chicago:20250512T183000
DTEND;TZID=America/Chicago:20250512T193000
LOCATION:4601 Adamson Ln\, Machesney Park\, IL 61115 US
SUMMARY:Next Chapter Book Club
END:VEVENT
END:VCALENDAR
