BEGIN:VCALENDAR
VERSION:2.0
PRODID:-//thearcwbo.org//NONSGML kigkonsult.se iCalcreator 2.30.10//
CALSCALE:GREGORIAN
METHOD:PUBLISH
UID:5f3ffd80-985c-48bf-9988-62537769135f
X-WR-CALDESC:Come view 'Vivid Voices' an exciting exhibition of artwork fro
 m the Project Art program! This year's collection is full of bold color an
 d diverse compositions.
X-WR-RELCALID:8f717cb8b17e4307e5a5ed5639a0cf8f
X-WR-TIMEZONE:America/Chicago
BEGIN:VTIMEZONE
TZID:America/Chicago
BEGIN:STANDARD
TZNAME:CST
DTSTART:20231105T020000
TZOFFSETFROM:-0500
TZOFFSETTO:-0600
RDATE:20241103T020000
END:STANDARD
BEGIN:DAYLIGHT
TZNAME:CDT
DTSTART:20240310T020000
TZOFFSETFROM:-0600
TZOFFSETTO:-0500
RDATE:20250309T020000
END:DAYLIGHT
END:VTIMEZONE
BEGIN:VEVENT
UID:5d0bec43-a157-4176-90d8-c93bd0d82d22
DTSTAMP:20260420T132529Z
DESCRIPTION:Come view 'Vivid Voices' an exciting exhibition of artwork from
  the Project Art program! This year's collection is full of bold color and
  diverse compositions.
DTSTART;TZID=America/Chicago:20240419T170000
DTEND;TZID=America/Chicago:20240419T200000
LOCATION:946 N 2nd St\, Rockford\, IL 61107\, Rockford\, IL 61107 US
SUMMARY:Rockford Art Scene at Community Foundation
END:VEVENT
END:VCALENDAR
